BEGIN:VCALENDAR
VERSION:2.0
PRODID:-//Leo Club of Mumbai Western Suburbs - ECPv6.15.8//NONSGML v1.0//EN
CALSCALE:GREGORIAN
METHOD:PUBLISH
X-ORIGINAL-URL:https://leoclubofmws.com
X-WR-CALDESC:Events for Leo Club of Mumbai Western Suburbs
REFRESH-INTERVAL;VALUE=DURATION:PT1H
X-Robots-Tag:noindex
X-PUBLISHED-TTL:PT1H
BEGIN:VTIMEZONE
TZID:Asia/Kolkata
BEGIN:STANDARD
TZOFFSETFROM:+0530
TZOFFSETTO:+0530
TZNAME:IST
DTSTART:20230101T000000
END:STANDARD
END:VTIMEZONE
BEGIN:VEVENT
DTSTART;TZID=Asia/Kolkata:20250907T180000
DTEND;TZID=Asia/Kolkata:20250907T233000
DTSTAMP:20260423T234024
CREATED:20250904T173855Z
LAST-MODIFIED:20250904T173855Z
UID:1053-1757268000-1757287800@leoclubofmws.com
SUMMARY:Board Meeting 3.0 x A3 Convergence
DESCRIPTION:
URL:https://leoclubofmws.com/event/board-meeting-3-2/
LOCATION:Goregaon West\, India
END:VEVENT
BEGIN:VEVENT
DTSTART;TZID=Asia/Kolkata:20250530T080000
DTEND;TZID=Asia/Kolkata:20250601T170000
DTSTAMP:20260423T234024
CREATED:20250424T164256Z
LAST-MODIFIED:20250424T164552Z
UID:902-1748592000-1748797200@leoclubofmws.com
SUMMARY:Leo Multiple Convention -Raabta
DESCRIPTION:
URL:https://leoclubofmws.com/event/leo-multiple-convention-raabta/
LOCATION:Hyatt Regency\, Mansarovar
END:VEVENT
BEGIN:VEVENT
DTSTART;TZID=Asia/Kolkata:20250511T180000
DTEND;TZID=Asia/Kolkata:20250511T233000
DTSTAMP:20260423T234024
CREATED:20250424T164120Z
LAST-MODIFIED:20250507T173936Z
UID:898-1746986400-1747006200@leoclubofmws.com
SUMMARY:District Awards - Champions of the Change
DESCRIPTION:
URL:https://leoclubofmws.com/event/district-awards-champions-of-the-change/
LOCATION:The Club\, Andheri
END:VEVENT
BEGIN:VEVENT
DTSTART;TZID=Asia/Kolkata:20250426T170000
DTEND;TZID=Asia/Kolkata:20250426T233000
DTSTAMP:20260423T234024
CREATED:20250424T164416Z
LAST-MODIFIED:20250424T173739Z
UID:905-1745686800-1745710200@leoclubofmws.com
SUMMARY:DP Visit
DESCRIPTION:
URL:https://leoclubofmws.com/event/dp-visit/
LOCATION:JP Deck Banquet Hall
END:VEVENT
BEGIN:VEVENT
DTSTART;TZID=Asia/Kolkata:20250415T193000
DTEND;TZID=Asia/Kolkata:20250415T220000
DTSTAMP:20260423T234024
CREATED:20250424T164456Z
LAST-MODIFIED:20250424T164456Z
UID:909-1744745400-1744754400@leoclubofmws.com
SUMMARY:Gazab Dance Hour
DESCRIPTION:
URL:https://leoclubofmws.com/event/gazab-dance-hour/
END:VEVENT
BEGIN:VEVENT
DTSTART;TZID=Asia/Kolkata:20250330T080000
DTEND;TZID=Asia/Kolkata:20250330T170000
DTSTAMP:20260423T234024
CREATED:20250424T163940Z
LAST-MODIFIED:20250424T163940Z
UID:896-1743321600-1743354000@leoclubofmws.com
SUMMARY:Board Meeting
DESCRIPTION:
URL:https://leoclubofmws.com/event/board-meeting-4/
END:VEVENT
BEGIN:VEVENT
DTSTART;TZID=Asia/Kolkata:20250315T080000
DTEND;TZID=Asia/Kolkata:20250315T170000
DTSTAMP:20260423T234024
CREATED:20250424T163917Z
LAST-MODIFIED:20250424T163917Z
UID:894-1742025600-1742058000@leoclubofmws.com
SUMMARY:Games Night 2.0
DESCRIPTION:
URL:https://leoclubofmws.com/event/games-night-2-0/
END:VEVENT
BEGIN:VEVENT
DTSTART;TZID=Asia/Kolkata:20250314T080000
DTEND;TZID=Asia/Kolkata:20250314T170000
DTSTAMP:20260423T234024
CREATED:20250424T163855Z
LAST-MODIFIED:20250424T163855Z
UID:892-1741939200-1741971600@leoclubofmws.com
SUMMARY:Holi Bash
DESCRIPTION:
URL:https://leoclubofmws.com/event/holi-bash/
END:VEVENT
BEGIN:VEVENT
DTSTART;TZID=Asia/Kolkata:20250309T080000
DTEND;TZID=Asia/Kolkata:20250309T170000
DTSTAMP:20260423T234024
CREATED:20250424T163834Z
LAST-MODIFIED:20250424T163834Z
UID:890-1741507200-1741539600@leoclubofmws.com
SUMMARY:Match Screening
DESCRIPTION:
URL:https://leoclubofmws.com/event/match-screening/
END:VEVENT
BEGIN:VEVENT
DTSTART;TZID=Asia/Kolkata:20250301T080000
DTEND;TZID=Asia/Kolkata:20250302T170000
DTSTAMP:20260423T234024
CREATED:20250424T163809Z
LAST-MODIFIED:20250424T163809Z
UID:888-1740816000-1740934800@leoclubofmws.com
SUMMARY:Fleo - More than a Flea Market
DESCRIPTION:
URL:https://leoclubofmws.com/event/fleo-more-than-a-flea-market/
END:VEVENT
BEGIN:VEVENT
DTSTART;TZID=Asia/Kolkata:20250209T080000
DTEND;TZID=Asia/Kolkata:20250209T170000
DTSTAMP:20260423T234024
CREATED:20250424T163712Z
LAST-MODIFIED:20250424T163712Z
UID:886-1739088000-1739120400@leoclubofmws.com
SUMMARY:Board Meeting
DESCRIPTION:
URL:https://leoclubofmws.com/event/board-meeting-3/
END:VEVENT
BEGIN:VEVENT
DTSTART;TZID=Asia/Kolkata:20250209T080000
DTEND;TZID=Asia/Kolkata:20250209T170000
DTSTAMP:20260423T234024
CREATED:20250424T163655Z
LAST-MODIFIED:20250424T163655Z
UID:884-1739088000-1739120400@leoclubofmws.com
SUMMARY:Sehat Sankalp
DESCRIPTION:
URL:https://leoclubofmws.com/event/sehat-sankalp/
END:VEVENT
BEGIN:VEVENT
DTSTART;TZID=Asia/Kolkata:20250126T080000
DTEND;TZID=Asia/Kolkata:20250126T170000
DTSTAMP:20260423T234024
CREATED:20250424T163454Z
LAST-MODIFIED:20250424T163454Z
UID:882-1737878400-1737910800@leoclubofmws.com
SUMMARY:Board Meeting
DESCRIPTION:
URL:https://leoclubofmws.com/event/board-meeting-2/
END:VEVENT
BEGIN:VEVENT
DTSTART;TZID=Asia/Kolkata:20250112T080000
DTEND;TZID=Asia/Kolkata:20250112T170000
DTSTAMP:20260423T234024
CREATED:20250424T163403Z
LAST-MODIFIED:20250424T163403Z
UID:880-1736668800-1736701200@leoclubofmws.com
SUMMARY:Leo Service Forum & 2nd Council Meet
DESCRIPTION:
URL:https://leoclubofmws.com/event/leo-service-forum-2nd-council-meet/
END:VEVENT
BEGIN:VEVENT
DTSTART;TZID=Asia/Kolkata:20250105T080000
DTEND;TZID=Asia/Kolkata:20250105T170000
DTSTAMP:20260423T234024
CREATED:20250424T163331Z
LAST-MODIFIED:20250424T163331Z
UID:878-1736064000-1736096400@leoclubofmws.com
SUMMARY:Serving Smiles
DESCRIPTION:
URL:https://leoclubofmws.com/event/serving-smiles-2/
END:VEVENT
BEGIN:VEVENT
DTSTART;TZID=Asia/Kolkata:20241229T080000
DTEND;TZID=Asia/Kolkata:20241229T170000
DTSTAMP:20260423T234024
CREATED:20250424T163304Z
LAST-MODIFIED:20250424T163304Z
UID:876-1735459200-1735491600@leoclubofmws.com
SUMMARY:Board Meeting
DESCRIPTION:
URL:https://leoclubofmws.com/event/board-meeting/
END:VEVENT
BEGIN:VEVENT
DTSTART;TZID=Asia/Kolkata:20241222T080000
DTEND;TZID=Asia/Kolkata:20241222T170000
DTSTAMP:20260423T234024
CREATED:20250424T163227Z
LAST-MODIFIED:20250424T163227Z
UID:874-1734854400-1734886800@leoclubofmws.com
SUMMARY:leo cricket league
DESCRIPTION:
URL:https://leoclubofmws.com/event/leo-cricket-league/
END:VEVENT
BEGIN:VEVENT
DTSTART;TZID=Asia/Kolkata:20241213T080000
DTEND;TZID=Asia/Kolkata:20241213T170000
DTSTAMP:20260423T234024
CREATED:20250424T163207Z
LAST-MODIFIED:20250424T163207Z
UID:872-1734076800-1734109200@leoclubofmws.com
SUMMARY:leo international day celebration
DESCRIPTION:
URL:https://leoclubofmws.com/event/leo-international-day-celebration/
END:VEVENT
BEGIN:VEVENT
DTSTART;TZID=Asia/Kolkata:20241208T080000
DTEND;TZID=Asia/Kolkata:20241208T170000
DTSTAMP:20260423T234024
CREATED:20250424T163146Z
LAST-MODIFIED:20250424T163146Z
UID:870-1733644800-1733677200@leoclubofmws.com
SUMMARY:Turf Cricket
DESCRIPTION:
URL:https://leoclubofmws.com/event/turf-cricket/
END:VEVENT
BEGIN:VEVENT
DTSTART;TZID=Asia/Kolkata:20241201T080000
DTEND;TZID=Asia/Kolkata:20241201T170000
DTSTAMP:20260423T234024
CREATED:20250424T163126Z
LAST-MODIFIED:20250424T163126Z
UID:868-1733040000-1733072400@leoclubofmws.com
SUMMARY:Clueless in Suburbia: district socials
DESCRIPTION:
URL:https://leoclubofmws.com/event/clueless-in-suburbia-district-socials/
END:VEVENT
BEGIN:VEVENT
DTSTART;TZID=Asia/Kolkata:20241123T193000
DTEND;TZID=Asia/Kolkata:20241123T230000
DTSTAMP:20260423T234024
CREATED:20241230T172035Z
LAST-MODIFIED:20241230T172035Z
UID:581-1732390200-1732402800@leoclubofmws.com
SUMMARY:PickleBall Tournament
DESCRIPTION:Pickleball Tournament
URL:https://leoclubofmws.com/event/pickleball-tournament/
LOCATION:Stellerworld\, Goregaon\, Mumbai\, India
END:VEVENT
BEGIN:VEVENT
DTSTART;TZID=Asia/Kolkata:20241110T080000
DTEND;TZID=Asia/Kolkata:20241110T170000
DTSTAMP:20260423T234024
CREATED:20250424T163041Z
LAST-MODIFIED:20250424T163041Z
UID:866-1731225600-1731258000@leoclubofmws.com
SUMMARY:LeoPhoria: First Multiple Council Meet and Fellowship 1
DESCRIPTION:
URL:https://leoclubofmws.com/event/leophoria-first-multiple-council-meet-and-fellowship-1/
END:VEVENT
BEGIN:VEVENT
DTSTART;TZID=Asia/Kolkata:20241102T080000
DTEND;TZID=Asia/Kolkata:20241102T170000
DTSTAMP:20260423T234024
CREATED:20250424T162952Z
LAST-MODIFIED:20250424T162952Z
UID:864-1730534400-1730566800@leoclubofmws.com
SUMMARY:Diwaloween Party
DESCRIPTION:
URL:https://leoclubofmws.com/event/diwaloween-party/
END:VEVENT
BEGIN:VEVENT
DTSTART;TZID=Asia/Kolkata:20241101T080000
DTEND;TZID=Asia/Kolkata:20241101T170000
DTSTAMP:20260423T234024
CREATED:20250424T162925Z
LAST-MODIFIED:20250424T162925Z
UID:862-1730448000-1730480400@leoclubofmws.com
SUMMARY:Diwali Celebration with Underprivileged Children
DESCRIPTION:
URL:https://leoclubofmws.com/event/diwali-celebration-with-underprivileged-children/
END:VEVENT
BEGIN:VEVENT
DTSTART;TZID=Asia/Kolkata:20241026T080000
DTEND;TZID=Asia/Kolkata:20241026T170000
DTSTAMP:20260423T234024
CREATED:20250424T162839Z
LAST-MODIFIED:20250424T162839Z
UID:860-1729929600-1729962000@leoclubofmws.com
SUMMARY:Service Week #3
DESCRIPTION:Peace Poster Competition\nCyber Crime Awareness Program\nBest of Waste Program\nTree Plantation
URL:https://leoclubofmws.com/event/service-week-3/
END:VEVENT
BEGIN:VEVENT
DTSTART;TZID=Asia/Kolkata:20241026T080000
DTEND;TZID=Asia/Kolkata:20241026T170000
DTSTAMP:20260423T234024
CREATED:20250424T162730Z
LAST-MODIFIED:20250424T162730Z
UID:858-1729929600-1729962000@leoclubofmws.com
SUMMARY:Eco Fusion - A wall painting initiative
DESCRIPTION:
URL:https://leoclubofmws.com/event/eco-fusion-a-wall-painting-initiative/
END:VEVENT
BEGIN:VEVENT
DTSTART;TZID=Asia/Kolkata:20241024T080000
DTEND;TZID=Asia/Kolkata:20241024T170000
DTSTAMP:20260423T234024
CREATED:20250424T162612Z
LAST-MODIFIED:20250424T162612Z
UID:856-1729756800-1729789200@leoclubofmws.com
SUMMARY:Impact Innovators Summit: CSR & ESG
DESCRIPTION:
URL:https://leoclubofmws.com/event/impact-innovators-summit-csr-esg/
END:VEVENT
BEGIN:VEVENT
DTSTART;TZID=Asia/Kolkata:20241020T080000
DTEND;TZID=Asia/Kolkata:20241020T170000
DTSTAMP:20260423T234024
CREATED:20250424T162328Z
LAST-MODIFIED:20250424T162543Z
UID:852-1729411200-1729443600@leoclubofmws.com
SUMMARY:Service Week #2
DESCRIPTION:Cloths Donation\nSanitary Donation – “Project Sankalp”\nFlood’s do’es and dont’\nTree Plantation Donation\nAnaj Kits donation\nDiabetes Checkup\nEye Checkup\nDental Checkup\nBlood Donation
URL:https://leoclubofmws.com/event/service-week-2/
END:VEVENT
BEGIN:VEVENT
DTSTART;TZID=Asia/Kolkata:20241013T080000
DTEND;TZID=Asia/Kolkata:20241013T170000
DTSTAMP:20260423T234024
CREATED:20250424T162304Z
LAST-MODIFIED:20250424T162304Z
UID:850-1728806400-1728838800@leoclubofmws.com
SUMMARY:leadership seminar: motivating people
DESCRIPTION:
URL:https://leoclubofmws.com/event/leadership-seminar-motivating-people/
END:VEVENT
BEGIN:VEVENT
DTSTART;TZID=Asia/Kolkata:20241012T080000
DTEND;TZID=Asia/Kolkata:20241012T170000
DTSTAMP:20260423T234024
CREATED:20250424T162234Z
LAST-MODIFIED:20250424T162234Z
UID:848-1728720000-1728752400@leoclubofmws.com
SUMMARY:Kanya Bhojan
DESCRIPTION:
URL:https://leoclubofmws.com/event/kanya-bhojan/
END:VEVENT
END:VCALENDAR